Workbook

Sheet Hoja2
D1: 10/11/2021 A 31/12/2022 | G1: 44927 | J1: 45292
A2: años | B2: meses | D2: Periodo entre la adquisición y la transmisión | E2: Coeficiente | G2: Periodo entre la adquisición y la transmisión | H2: Coeficiente | J2: Periodo entre la adquisición y la transmisión | K2: Coeficiente
A3: =DATEDIF(CALCULADORA!A15,CALCULADORA!A12, "y") -> 0 | B3: =DATEDIF(CALCULADORA!A15,CALCULADORA!A12, "ym") -> 0 | D3: 1 | E3: 0.13 | G3: 1 | H3: 0.15 | J3: 1 | K3: 0.15
D4: 2 | E4: 0.15 | G4: 2 | H4: 0.14 | J4: 2 | K4: 0.14
D5: 3 | E5: 0.16 | G5: 3 | H5: 0.15 | J5: 3 | K5: 0.14
D6: 4 | E6: 0.17 | G6: 4 | H6: 0.17 | J6: 4 | K6: 0.16
A7: fecha ordenanza | D7: 5 | E7: 0.17 | G7: 5 | H7: 0.18 | J7: 5 | K7: 0.18
A8: 44681 | D8: 6 | E8: 0.16 | G8: 6 | H8: 0.19 | J8: 6 | K8: 0.19
D9: 7 | E9: 0.12 | G9: 7 | H9: 0.18 | J9: 7 | K9: 0.2
D10: 8 | E10: 0.1 | G10: 8 | H10: 0.15 | J10: 8 | K10: 0.19
D11: 9 | E11: 0.09 | G11: 9 | H11: 0.12 | J11: 9 | K11: 0.15
D12: 10 | E12: 0.08 | G12: 10 | H12: 0.1 | J12: 10 | K12: 0.12
D13: 11 | E13: 0.08 | G13: 11 | H13: 0.09 | J13: 11 | K13: 0.1
D14: 12 | E14: 0.08 | G14: 12 | H14: 0.09 | J14: 12 | K14: 0.09
D15: 13 | E15: 0.08 | G15: 13 | H15: 0.09 | J15: 13 | K15: 0.09
D16: 14 | E16: 0.1 | G16: 14 | H16: 0.09 | J16: 14 | K16: 0.09
D17: 15 | E17: 0.12 | G17: 15 | H17: 0.1 | J17: 15 | K17: 0.09
D18: 16 | E18: 0.16 | G18: 16 | H18: 0.13 | J18: 16 | K18: 0.1
D19: 17 | E19: 0.2 | G19: 17 | H19: 0.17 | J19: 17 | K19: 0.13
D20: 18 | E20: 0.26 | G20: 18 | H20: 0.23 | J20: 18 | K20: 0.17
D21: 19 | E21: 0.36 | G21: 19 | H21: 0.29 | J21: 19 | K21: 0.23
D23: meses 10/11/2021 A 31/12/2022 | G23: meses 01/01/2023 | J23: meses 01/01/2024
D24: 0 | E24: ="" | G24: 0 | H24: ="" | J24: 0 | K24: =""
D25: 1 | E25: =0.14/12*D25 -> 0.011666667 | G25: 1 | H25: =$H$3/12*G25 -> 0.0125 | J25: 1 | K25: =$K$3/12*J25 -> 0.0125
D26: 2 | E26: =0.14/12*D26 -> 0.023333333 | G26: 2 | H26: =$H$3/12*G26 -> 0.025 | J26: 2 | K26: =$K$3/12*J26 -> 0.025
D27: 3 | E27: =0.14/12*D27 -> 0.035 | G27: 3 | H27: =$H$3/12*G27 -> 0.0375 | J27: 3 | K27: =$K$3/12*J27 -> 0.0375
D28: 4 | E28: =0.14/12*D28 -> 0.046666667 | G28: 4 | H28: =$H$3/12*G28 -> 0.05 | J28: 4 | K28: =$K$3/12*J28 -> 0.05
D29: 5 | E29: =0.14/12*D29 -> 0.058333333 | G29: 5 | H29: =$H$3/12*G29 -> 0.0625 | J29: 5 | K29: =$K$3/12*J29 -> 0.0625
D30: 6 | E30: =0.14/12*D30 -> 0.07 | G30: 6 | H30: =$H$3/12*G30 -> 0.075 | J30: 6 | K30: =$K$3/12*J30 -> 0.075
D31: 7 | E31: =0.14/12*D31 -> 0.081666667 | G31: 7 | H31: =$H$3/12*G31 -> 0.0875 | J31: 7 | K31: =$K$3/12*J31 -> 0.0875
D32: 8 | E32: =0.14/12*D32 -> 0.093333333 | G32: 8 | H32: =$H$3/12*G32 -> 0.1 | J32: 8 | K32: =$K$3/12*J32 -> 0.1
D33: 9 | E33: =0.14/12*D33 -> 0.105 | G33: 9 | H33: =$H$3/12*G33 -> 0.1125 | J33: 9 | K33: =$K$3/12*J33 -> 0.1125
D34: 10 | E34: =0.14/12*D34 -> 0.11666667 | G34: 10 | H34: =$H$3/12*G34 -> 0.125 | J34: 10 | K34: =$K$3/12*J34 -> 0.125
D35: 11 | E35: =0.14/12*D35 -> 0.12833333 | G35: 11 | H35: =$H$3/12*G35 -> 0.1375 | J35: 11 | K35: =$K$3/12*J35 -> 0.1375

Sheet Hoja3

Sheet CALCULADORA
A11: ¿En qué fecha se transmite el inmueble (dd/mm/aaaa)? (*)
C13: SE MOSTRARA EN VERDE LA BASE IMPONIBLE MAS FAVORABLE PARA EL CONTRIBUYENTE
A14: ¿En qué fecha se adquirió el inmueble (dd/mm/aaaa)?
C15: ESTIMACIÓN OBJETIVA
C16: VALOR CATASTRAL SUELO | D16: COEFICIENTE | E16: BASE IMPONIBLE | F16: TIPO | G16: CUOTA
A17: ¿Por cuánto se vende, se hereda o se dona el inmueble? | C17: =IF(A27="","",A27) | D17: =IF(A12="","",IF(AND(YEAR(A12)>=2024,Hoja2!A3>=20),0.4,IF(AND(YEAR(A12)<2024,Hoja2!A3>=20),0.45,IF(AND(A12>=Hoja2!J1,Hoja2!A3>=1),VLOOKUP(Hoja2!A3,Hoja2!J3:K21,2,0),IF(AND(A12>=Hoja2!J1,Hoja2!A3<1),VLOOKUP(Hoja2!B3,Hoja2!J24:K35,2,0),IF(AND(A12>=Hoja2!G1,Hoja2!A3>=1),VLOOKUP(Hoja2!A3,Hoja2!G3:H21,2,0),IF(AND(A12>=Hoja2!G1,Hoja2!A3<1),VLOOKUP(Hoja2!B3,Hoja2!G24:H35,2,0),IF(AND(A12<Hoja2!G1,Hoja2!A3>=1),VLOOKUP(Hoja2!A3,Hoja2!D3:E21,2,0),IF(AND(A12<Hoja2!G1,Hoja2!A3<1),VLOOKUP(Hoja2!B3,Hoja2!D24:E35,2,0)))))))))) | E17: =IF(OR(C17="",D17=""),0,C17*D17) -> 0 | F17: =IF(A12="","",IF(AND(E17>E22),"",IF(A12>=Hoja2!A8,0.294,IF(Hoja2!$A$3<=5,0.245,IF(Hoja2!$A$3<=10,0.2352,IF(Hoja2!$A$3<=15,0.2646,0.294)))))) | G17: =IF(F17="","",E17*F17)
A20: ¿Por cuánto se compró o adquirió? | C20: ESTIMACIÓN DIRECTA
C21: INCREMENTO REAL | D21: % SUELO | E21: BASE IMPONIBLE | F21: TIPO | G21: CUOTA
C22: =IF(AND(A18="",A21=""),"",IF(AND(A18="",A21>0),"",IF(A18-A21>0,A18-A21,0))) | D22: =IF(AND(A18="",A21=""),"",IF(AND(A18="",A21>0),"",IF(OR(A24="",A27=""),"",A27/A24))) | E22: =IF(C22=0,0,IF(D22="","",C22*D22)) | F22: =IF(A12="","",IF(E22>E17,"",IF(OR(A12="",A12>=Hoja2!A8),0.294,IF(Hoja2!$A$3<=5,0.245,IF(Hoja2!$A$3<=10,0.2352,IF(Hoja2!$A$3<=15,0.264,0.294)))))) | G22: =IF(OR(F22="",E22=""),"",E22*F22)
A23: ¿Cuál es el valor catastral total del inmueble?
A26: ¿Cuál es el valor catastral del suelo del inmueble? (*)
A30: (*) CAMPOS OBLIGATORIOS PARA CÁLCULO POR EL MÉTODO DE ESTIMACIÓN OBJETIVA

Sheet INSTRUCCIONES
